{
 "currentVersion": 10.22,
 "serviceDescription": "AUSIMAGE Aerial Imagery Canberra 2014 is a web service of high resolution aerial imagery (10 cm to 18 cm) over Canberra and Queanbeyan, acquired in February and April 2014. AUSIMAGE Aerial Imagery is a data product of Jacobs Group (Australia) Pty Ltd, released by Geoscience Australia as a web map service under license agreement.",
 "name": "Ausimage_Canberra_2014",
 "description": "AUSIMAGE Aerial Imagery Canberra 2014 is a web service of high resolution aerial imagery (10 cm to 18 cm) over Canberra and Queanbeyan, acquired in February and April 2014. AUSIMAGE Aerial Imagery is a data product of Jacobs Group (Australia) Pty Ltd, released by Geoscience Australia as a web map service under license agreement.",
 "extent": {
  "xmin": 672000,
  "ymin": 6068000,
  "xmax": 708000,
  "ymax": 6111000,
  "spatialReference": {
   "wkid": 28355,
   "latestWkid": 28355
  }
 },
 "initialExtent": {
  "xmin": 672000,
  "ymin": 6068000,
  "xmax": 708000,
  "ymax": 6111000,
  "spatialReference": {
   "wkid": 28355,
   "latestWkid": 28355
  }
 },
 "fullExtent": {
  "xmin": 672000,
  "ymin": 6068000,
  "xmax": 708000,
  "ymax": 6111000,
  "spatialReference": {
   "wkid": 28355,
   "latestWkid": 28355
  }
 },
 "pixelSizeX": 0.1,
 "pixelSizeY": 0.1,
 "bandCount": 3,
 "pixelType": "U8",
 "minPixelSize": 0,
 "maxPixelSize": 0,
 "copyrightText": "© Commonwealth of Australia (Geoscience Australia) 2016. This product is released under the Creative Commons Attribution 4.0 International Licence. http://creativecommons.org/licenses/by/4.0/legalcode",
 "serviceDataType": "esriImageServiceDataTypeRGB",
 "minValues": [
  0,
  4,
  1
 ],
 "maxValues": [
  255,
  255,
  255
 ],
 "meanValues": [
  144.99875589143272,
  142.64471152594257,
  114.54325881219458
 ],
 "stdvValues": [
  40.82820817472587,
  36.03947918980934,
  32.85584965042527
 ],
 "objectIdField": "OBJECTID",
 "fields": [
  {
   "name": "OBJECTID",
   "type": "esriFieldTypeOID",
   "alias": "OBJECTID",
   "domain": null
  },
  {
   "name": "Shape",
   "type": "esriFieldTypeGeometry",
   "alias": "Shape",
   "domain": null
  },
  {
   "name": "Name",
   "type": "esriFieldTypeString",
   "alias": "Name",
   "domain": null,
   "length": 50
  },
  {
   "name": "MinPS",
   "type": "esriFieldTypeDouble",
   "alias": "MinPS",
   "domain": null
  },
  {
   "name": "MaxPS",
   "type": "esriFieldTypeDouble",
   "alias": "MaxPS",
   "domain": null
  },
  {
   "name": "LowPS",
   "type": "esriFieldTypeDouble",
   "alias": "LowPS",
   "domain": null
  },
  {
   "name": "HighPS",
   "type": "esriFieldTypeDouble",
   "alias": "HighPS",
   "domain": null
  },
  {
   "name": "Category",
   "type": "esriFieldTypeInteger",
   "alias": "Category",
   "domain": {
    "type": "codedValue",
    "name": "MosaicCatalogItemCategoryDomain",
    "codedValues": [
     {
      "name": "Unknown",
      "code": 0
     },
     {
      "name": "Primary",
      "code": 1
     },
     {
      "name": "Overview",
      "code": 2
     },
     {
      "name": "Unprocessed Overview",
      "code": 3
     },
     {
      "name": "Partial Overview",
      "code": 4
     },
     {
      "name": "Uploaded",
      "code": 253
     },
     {
      "name": "Incomplete",
      "code": 254
     },
     {
      "name": "Custom",
      "code": 255
     }
    ]
   }
  },
  {
   "name": "Tag",
   "type": "esriFieldTypeString",
   "alias": "Tag",
   "domain": null,
   "length": 20
  },
  {
   "name": "GroupName",
   "type": "esriFieldTypeString",
   "alias": "GroupName",
   "domain": null,
   "length": 50
  },
  {
   "name": "ProductName",
   "type": "esriFieldTypeString",
   "alias": "ProductName",
   "domain": null,
   "length": 50
  },
  {
   "name": "CenterX",
   "type": "esriFieldTypeDouble",
   "alias": "CenterX",
   "domain": null
  },
  {
   "name": "CenterY",
   "type": "esriFieldTypeDouble",
   "alias": "CenterY",
   "domain": null
  },
  {
   "name": "ZOrder",
   "type": "esriFieldTypeInteger",
   "alias": "ZOrder",
   "domain": null
  },
  {
   "name": "Shape_Length",
   "type": "esriFieldTypeDouble",
   "alias": "Shape_Length",
   "domain": null
  },
  {
   "name": "Shape_Area",
   "type": "esriFieldTypeDouble",
   "alias": "Shape_Area",
   "domain": null
  }
 ],
 "capabilities": "Catalog,Mensuration,Image,Metadata",
 "defaultMosaicMethod": "Northwest",
 "allowedMosaicMethods": "NorthWest,Center,LockRaster,ByAttribute,Nadir,Viewpoint,Seamline,None",
 "sortField": "",
 "sortValue": null,
 "mosaicOperator": "First",
 "defaultCompressionQuality": 75,
 "defaultResamplingMethod": "Bilinear",
 "maxImageHeight": 4100,
 "maxImageWidth": 15000,
 "maxRecordCount": 1000,
 "maxDownloadImageCount": 20,
 "maxDownloadSizeLimit": 2048,
 "maxMosaicImageCount": 20,
 "allowRasterFunction": true,
 "rasterFunctionInfos": [],
 "rasterTypeInfos": [
  {
   "name": "Raster Dataset",
   "description": "Supports all ArcGIS Raster Datasets",
   "help": ""
  }
 ],
 "mensurationCapabilities": "Basic",
 "hasHistograms": true,
 "hasColormap": false,
 "hasRasterAttributeTable": false,
 "minScale": 0,
 "maxScale": 0,
 "exportTilesAllowed": false,
 "supportsStatistics": true,
 "supportsAdvancedQueries": true,
 "editFieldsInfo": null,
 "ownershipBasedAccessControlForRasters": null,
 "allowComputeTiePoints": false,
 "useStandardizedQueries": true,
 "spatialReference": {
  "wkid": 28355,
  "latestWkid": 28355
 }
}
